BEGIN:VCALENDAR
VERSION:2.0
PRODID:-//High Point NAACP - ECPv6.5.1.4//NONSGML v1.0//EN
CALSCALE:GREGORIAN
METHOD:PUBLISH
X-WR-CALNAME:High Point NAACP
X-ORIGINAL-URL:https://naacphighpoint.org
X-WR-CALDESC:Events for High Point NAACP
REFRESH-INTERVAL;VALUE=DURATION:PT1H
X-Robots-Tag:noindex
X-PUBLISHED-TTL:PT1H
BEGIN:VTIMEZONE
TZID:America/New_York
BEGIN:DAYLIGHT
TZOFFSETFROM:-0500
TZOFFSETTO:-0400
TZNAME:EDT
DTSTART:20260308T070000
END:DAYLIGHT
BEGIN:STANDARD
TZOFFSETFROM:-0400
TZOFFSETTO:-0500
TZNAME:EST
DTSTART:20261101T060000
END:STANDARD
END:VTIMEZONE
BEGIN:VEVENT
DTSTART;TZID=America/New_York:20260422T190000
DTEND;TZID=America/New_York:20260422T200000
DTSTAMP:20260421T045625
CREATED:20250123T160318Z
LAST-MODIFIED:20250123T160318Z
UID:10000713-1776884400-1776888000@naacphighpoint.org
SUMMARY:Youth/Young Adult Committee Meeting
DESCRIPTION:
URL:https://naacphighpoint.org/event/youth-young-adult-committee-meeting/2026-04-22/
END:VEVENT
BEGIN:VEVENT
DTSTART;TZID=America/New_York:20260423T190000
DTEND;TZID=America/New_York:20260423T200000
DTSTAMP:20260421T045625
CREATED:20250123T155332Z
LAST-MODIFIED:20250123T155411Z
UID:10000594-1776970800-1776974400@naacphighpoint.org
SUMMARY:Membership Committee Meeting
DESCRIPTION:The function of the Membership Committee is to: (1) work throughout the year to maintain and increase the membership of the Association; (2) be responsible for planning and organizing the annual membership campaign; and (3) be responsible on a continuous basis for soliciting new members and for securing renewals.
URL:https://naacphighpoint.org/event/membership-committee-meeting/2026-04-23/
END:VEVENT
BEGIN:VEVENT
DTSTART;TZID=America/New_York:20260427T190000
DTEND;TZID=America/New_York:20260427T200000
DTSTAMP:20260421T045625
CREATED:20250123T154318Z
LAST-MODIFIED:20250123T154318Z
UID:10000293-1777316400-1777320000@naacphighpoint.org
SUMMARY:Reparations/Social Justice Committee Meeting
DESCRIPTION:
URL:https://naacphighpoint.org/event/reparations-social-justice-committee-meeting/2026-04-27/
END:VEVENT
BEGIN:VEVENT
DTSTART;TZID=America/New_York:20260428T190000
DTEND;TZID=America/New_York:20260428T210000
DTSTAMP:20260421T045626
CREATED:20230611T223619Z
LAST-MODIFIED:20230611T223619Z
UID:10000096-1777402800-1777410000@naacphighpoint.org
SUMMARY:Executive Committee Meeting
DESCRIPTION:The Executive Committee shall: (1) have general control of the affairs and program of the branch\, subject to the authority of the branch and the provisions of the Branch Constitution; (2) creates special committees as needs arise; (3) fills all vacancies in branch offices; (4) decides matters of branch policy subject to endorsement by the branch in accordance with National Office policy; (5) Appoints\, employs and enters into contracts with salaried employees subject to employment procedures and qualifications approved by the National Office; (6) renders monthly reports to the branch containing reports of all special and standing committees.
URL:https://naacphighpoint.org/event/executive-committee-meeting/2026-04-28/
LOCATION:Virtual Event
CATEGORIES:Branch Meetings
ATTACH;FMTTYPE=image/jpeg:https://naacphighpoint.org/wp-content/uploads/sites/6/2023/06/Committee-Meeting.jpg
END:VEVENT
END:VCALENDAR